BEGIN:VCALENDAR
VERSION:2.0
PRODID:-//SRH - ECPv6.15.17//NONSGML v1.0//EN
CALSCALE:GREGORIAN
METHOD:PUBLISH
X-ORIGINAL-URL:https://srh.ro
X-WR-CALDESC:Evenimente pentru SRH
REFRESH-INTERVAL;VALUE=DURATION:PT1H
X-Robots-Tag:noindex
X-PUBLISHED-TTL:PT1H
BEGIN:VTIMEZONE
TZID:UTC
BEGIN:STANDARD
TZOFFSETFROM:+0000
TZOFFSETTO:+0000
TZNAME:UTC
DTSTART:20240101T000000
END:STANDARD
END:VTIMEZONE
BEGIN:VEVENT
DTSTART;VALUE=DATE:20250930
DTEND;VALUE=DATE:20251004
DTSTAMP:20260423T143806
CREATED:20250813T163002Z
LAST-MODIFIED:20250813T163017Z
UID:981-1759190400-1759535999@srh.ro
SUMMARY:ESENIAS and DIAS Scientific Conference 2025 and 14th ESENIAS Workshop    Invasive alien species in a changing climate: Challenges for ecosystem resilience
DESCRIPTION:The Joint ESENIAS and DIAS Scientific Conference 2025 will bring together leading scientists\, researchers\, and experts in Bucharest\, Romania\, from 30 September to 3 October 2025. \nJoin us for an engaging exploration of the current challenges. This event offers a unique opportunity for knowledge sharing\, networking\, and discovering innovative solutions. \n​Registration fee is not required. Passion for invasive species is mandatory. \nhttps://esenias2025.usamv.ro/home
URL:https://srh.ro/eveniment/esenias-and-dias-scientific-conference-2025-and-14th-esenias-workshop-invasive-alien-species-in-a-changing-climate-challenges-for-ecosystem-resilience/
LOCATION:USAMV Bucuresti\, Bulevardul Mărăști\, București\, București\, 011464\, Romania
ATTACH;FMTTYPE=image/png:https://srh.ro/wp-content/uploads/2025/08/Picture1.png
END:VEVENT
BEGIN:VEVENT
DTSTART;TZID=UTC:20251001T080000
DTEND;TZID=UTC:20251001T170000
DTSTAMP:20260423T143806
CREATED:20250814T134331Z
LAST-MODIFIED:20250814T134331Z
UID:1065-1759305600-1759338000@srh.ro
SUMMARY:Probleme actuale și tendințe în cultura părului (Pyrus communis)
DESCRIPTION:SCDP Bistriţa în parteneriat cu Societatea Română a Horticultorilor organizează în luna octombrie 2025 atelierul ”Probleme actuale și tendințe în cultura părului (Pyrus communis)”
URL:https://srh.ro/eveniment/probleme-actuale-si-tendinte-in-cultura-parului-pyrus-communis/
LOCATION:SCDP Bistrita\, Drumul Dumitrei Nou\, nr. 3\, Bistrita\, 420100\, Romania
END:VEVENT
BEGIN:VEVENT
DTSTART;TZID=UTC:20251002T100000
DTEND;TZID=UTC:20251005T180000
DTSTAMP:20260423T143806
CREATED:20250811T093249Z
LAST-MODIFIED:20250811T093249Z
UID:903-1759399200-1759687200@srh.ro
SUMMARY:Toamna Horticola Bucuresteana 2025
DESCRIPTION:Avem deosebita plăcere de a vă invita la Sărbătoarea Horticolă a Toamnei și a Recoltei\, în minunatul cadru al Campusului Agronomie-Herăstrău al Universității de Științe Agronomice și Medicină Veterinară din București\, B-dul. Mărăști Nr. 59.\nToamna Horticolă Bucureșteană – Ziua Recoltei\n2– 5 octombrie 2025\nStudenți\, cercetători\, fermieri și pasionați de horticultură își dau întâlnire la cel mai mare eveniment dedicat roadelor bogate cu care ne răsfață toamna. Descoperiți frumusețea toamnei în toate formele ei: expoziții de flori\, plante ornamentale\, degustări de fructe și legume\, struguri de masă din colecția ampelografică a Facultății de Horticultură\, standuri cu produse naturale și delicatese artizanale. Totodată\, veți putea participa la ateliere tematice\, demonstrații horticole în livadă și multe alte activități dedicate iubitorilor de grădinărit și frumos.\n100+ Expozanţi 16+ Workshop-uri 8000+ Vizitatori\nEvenimentul este o ocazie minunată de a petrece timp în aer liber\, de a învăța lucruri noi și de a susține horticultura sustenabilă și tradițiile locale.\nVă așteptăm cu entuziasm alături de noi\, să celebrăm împreună bogățiile toamnei!
URL:https://srh.ro/eveniment/toamna-horticola-bucuresteana-2025/
LOCATION:USAMV Bucuresti\, Bulevardul Mărăști\, București\, București\, 011464\, Romania
ATTACH;FMTTYPE=image/jpeg:https://srh.ro/wp-content/uploads/2025/08/WhatsApp-Image-2025-08-04-at-16.21.19.jpeg
ORGANIZER;CN="Societatea Romana a Horticultorilor":MAILTO:contact@srh.ro
END:VEVENT
BEGIN:VEVENT
DTSTART;TZID=UTC:20251019T100000
DTEND;TZID=UTC:20251019T180000
DTSTAMP:20260423T143806
CREATED:20251013T170119Z
LAST-MODIFIED:20251013T170334Z
UID:1304-1760868000-1760896800@srh.ro
SUMMARY:Festivalul Perelor - Editia a III-a (2025)
DESCRIPTION:Primaria Poienarii de Muscel\, în colaborare cu Societatea Romana Horticultorilor\, sub coordonarea domnului Marian Muraruş\, organizeaza în ziua de 19 octombrie 2025\, a III-a ediție a Festivalului Perelor.\nÎn cadrul evenimentului vor fi prezentate mai multe soiuri de pere. Vor participa fermieri\, cadre didactice de la Facultatea de Horticultură din București\, cercetatori de la Institutul de Cercetare-Dezvoltate pentru Pomicultura Maracineni\, pepinieriști\, pasionați de pomi și publicul larg.\nCu această ocazie Societatea Română a Horticultorilor va organiza un grup de lucru care va reuni membri din învățământ\, cercetare\, fermieri dar și pasionați ai culturii părului.
URL:https://srh.ro/eveniment/festivalul-perelor-editia-a-iii-a-2025/
LOCATION:Primaria Poienarii de Muscel\, Poienarii de Muscel\, Poienarii de Muscel\, Arges\, Romania
ATTACH;FMTTYPE=image/jpeg:https://srh.ro/wp-content/uploads/2025/10/WhatsApp-Image-2025-10-10-at-07.41.21.jpeg
END:VEVENT
END:VCALENDAR