BEGIN:VCALENDAR
VERSION:2.0
PRODID:-//SRH - ECPv6.15.17//NONSGML v1.0//EN
CALSCALE:GREGORIAN
METHOD:PUBLISH
X-ORIGINAL-URL:https://srh.ro
X-WR-CALDESC:Evenimente pentru SRH
REFRESH-INTERVAL;VALUE=DURATION:PT1H
X-Robots-Tag:noindex
X-PUBLISHED-TTL:PT1H
BEGIN:VTIMEZONE
TZID:UTC
BEGIN:STANDARD
TZOFFSETFROM:+0000
TZOFFSETTO:+0000
TZNAME:UTC
DTSTART:20240101T000000
END:STANDARD
END:VTIMEZONE
BEGIN:VEVENT
DTSTART;TZID=UTC:20250710T080000
DTEND;TZID=UTC:20250710T170000
DTSTAMP:20260423T195740
CREATED:20250813T161649Z
LAST-MODIFIED:20250813T161649Z
UID:977-1752134400-1752166800@srh.ro
SUMMARY:Atelier practic: Identificarea dăunătorilor în culturile de legume
DESCRIPTION:Atelier practic: Identificarea dăunătorilor în culturile de legume \n 
URL:https://srh.ro/eveniment/atelier-practic-identificarea-daunatorilor-in-culturile-de-legume/
LOCATION:SCDL Bacau\, Bacau\, Romania
END:VEVENT
END:VCALENDAR