BEGIN:VCALENDAR
VERSION:2.0
PRODID:-//SRH - ECPv6.15.17//NONSGML v1.0//EN
CALSCALE:GREGORIAN
METHOD:PUBLISH
X-WR-CALNAME:SRH
X-ORIGINAL-URL:https://srh.ro
X-WR-CALDESC:Evenimente pentru SRH
REFRESH-INTERVAL;VALUE=DURATION:PT1H
X-Robots-Tag:noindex
X-PUBLISHED-TTL:PT1H
BEGIN:VTIMEZONE
TZID:UTC
BEGIN:STANDARD
TZOFFSETFROM:+0000
TZOFFSETTO:+0000
TZNAME:UTC
DTSTART:20240101T000000
END:STANDARD
END:VTIMEZONE
BEGIN:VEVENT
DTSTART;TZID=UTC:20250508T080000
DTEND;TZID=UTC:20250511T170000
DTSTAMP:20260423T232008
CREATED:20250814T133817Z
LAST-MODIFIED:20260302T150437Z
UID:1059-1746691200-1746982800@srh.ro
SUMMARY:Zilele Horticulturii Bucureștene 2025
DESCRIPTION:Ne face o deosebită plăcere să vă invităm la Zilele Horticulturii Bucureștene\, care vor avea loc anul acesta în perioada 8-11 mai\, în Campusul Agronomie Herăstrău. \nLa cea de-a 21-a ediție a acestui eveniment horticol plin de culoare și inspirație\, publicul larg va avea acces gratuit și va putea să descopere și să achiziționeze flori\, plante ornamentale\, material săditor\, fructe\, legume\, echipamente și alte produse horticole de la cei peste 100 de producători prezenți. \nProgramul va include expoziții tematice\, demonstrații practice\, precum și ateliere și activități educative și distractive pentru întreaga familie. \nZilele Horticulturii Bucureștene se desfășoară sub Înaltul Patronaj al Majestății Sale Margareta\, Custodele Coroanei Române și sub simbolul Bujorului\, declarat oficial Floare Națională a României prin Legea 285/22.10.2022\, la inițiativa Facultății de Horticultură din București. \nVă așteptăm între 8-11 mai\, în Campusul Agronomie Herăstrău\, în intervalul orar 10:00-18:00.  \nZilele Horticulturii Bucurestene 2026 \n \n 
URL:https://srh.ro/eveniment/zilele-horticulturii-bucurestene/
LOCATION:USAMV Bucuresti\, Bulevardul Mărăști\, București\, București\, 011464\, Romania
ATTACH;FMTTYPE=image/jpeg:https://srh.ro/wp-content/uploads/2025/08/logo-final-ZHB.jpeg
END:VEVENT
BEGIN:VEVENT
DTSTART;TZID=UTC:20250512T080000
DTEND;TZID=UTC:20250512T170000
DTSTAMP:20260423T232008
CREATED:20250813T161607Z
LAST-MODIFIED:20250813T161607Z
UID:975-1747036800-1747069200@srh.ro
SUMMARY:Ziua internaţională a sănătăţii plantelor
DESCRIPTION:Ziua internaţională a sănătăţii plantelor \n(Fizic -ateliere de lucru\, prezentări pentru actorii din lanțul agro alimentar)
URL:https://srh.ro/eveniment/ziua-internationala-a-sanatatii-plantelor/
LOCATION:SCDL Bacau\, Bacau\, Romania
END:VEVENT
END:VCALENDAR