BEGIN:VCALENDAR
VERSION:2.0
PRODID:-//SRH - ECPv6.15.17//NONSGML v1.0//EN
CALSCALE:GREGORIAN
METHOD:PUBLISH
X-WR-CALNAME:SRH
X-ORIGINAL-URL:https://srh.ro
X-WR-CALDESC:Evenimente pentru SRH
REFRESH-INTERVAL;VALUE=DURATION:PT1H
X-Robots-Tag:noindex
X-PUBLISHED-TTL:PT1H
BEGIN:VTIMEZONE
TZID:UTC
BEGIN:STANDARD
TZOFFSETFROM:+0000
TZOFFSETTO:+0000
TZNAME:UTC
DTSTART:20250101T000000
END:STANDARD
END:VTIMEZONE
BEGIN:VEVENT
DTSTART;TZID=UTC:20260123T110000
DTEND;TZID=UTC:20260123T150000
DTSTAMP:20260419T150108
CREATED:20260121T163454Z
LAST-MODIFIED:20260121T163531Z
UID:1321-1769166000-1769180400@srh.ro
SUMMARY:Dezbatere pe probleme horticole la început de an - SRH Filiala Vâlcea și SCDVV Drăgășani
DESCRIPTION:În data de 23 ianuarie 2026\, începând cu ora 11.00\, Societatea Română a Horticultorilor – Filiala Vâlcea\, în colaborare cu Stațiunea de Cercetare-Dezvoltare pentru Viticultură și Vinificație Drăgășani\, vă invită la o dezbatere pe probleme horticole la început de an.
URL:https://srh.ro/eveniment/dezbatere-pe-probleme-horticole-la-inceput-de-an-srh-filiala-valcea-si-scdvv-dragasani/
LOCATION:Stațiunea de Cercetare-Dezvoltare pentru Viticultură și Vinificație Drăgășani\, Dragasani\, Romania
ATTACH;FMTTYPE=image/jpeg:https://srh.ro/wp-content/uploads/2026/01/Invitatie-Dezbatere-23.01.2026.jpg
END:VEVENT
END:VCALENDAR