BEGIN:VCALENDAR
VERSION:2.0
PRODID:-//SRH - ECPv6.15.17//NONSGML v1.0//EN
CALSCALE:GREGORIAN
METHOD:PUBLISH
X-WR-CALNAME:SRH
X-ORIGINAL-URL:https://srh.ro
X-WR-CALDESC:Evenimente pentru SRH
REFRESH-INTERVAL;VALUE=DURATION:PT1H
X-Robots-Tag:noindex
X-PUBLISHED-TTL:PT1H
BEGIN:VTIMEZONE
TZID:UTC
BEGIN:STANDARD
TZOFFSETFROM:+0000
TZOFFSETTO:+0000
TZNAME:UTC
DTSTART:20240101T000000
END:STANDARD
END:VTIMEZONE
BEGIN:VEVENT
DTSTART;TZID=UTC:20251218T110000
DTEND;TZID=UTC:20251218T130000
DTSTAMP:20260421T090220
CREATED:20251218T081458Z
LAST-MODIFIED:20251218T081715Z
UID:1312-1766055600-1766062800@srh.ro
SUMMARY:Omagierea Seniorilor Horticulturii Românești
DESCRIPTION:
URL:https://srh.ro/eveniment/omagierea-seniorilor-horticulturii-romanesti/
LOCATION:Academia de Științe Agricole și Silvice ”Gheorghe Ionescu Șișești”- Aula Magna\, Bv. Marasti\, nr. 61\, Bucuresti\, Romania
ORGANIZER;CN="Societatea Romana a Horticultorilor":MAILTO:contact@srh.ro
END:VEVENT
BEGIN:VEVENT
DTSTART;TZID=UTC:20251218T133000
DTEND;TZID=UTC:20251218T180000
DTSTAMP:20260421T090220
CREATED:20251218T082349Z
LAST-MODIFIED:20251218T082407Z
UID:1317-1766064600-1766080800@srh.ro
SUMMARY:Întâlnirea anuală a Consiliului de Conducere SRH
DESCRIPTION:  \nÎn data de 18 decembrie\, 13.30 – 18.00\, Consiliul de Conducere al Societății Române a Horticultorilor se reunește la întâlnirea periodică ordinară. \nAgenda întâlnirii este: \n\n\n\n13:00 – 13:30\nSosirea și înregistrarea participanților\n\n\n13:30 – 13:50\nRaportul Președintelui SRH pe perioada 2023-2025\n\n\n13:50 – 14:30\nRapoartele prim-vicepreședintului și vice-președinților\n\n\n14:30 – 15:30\nRapoartele Diviziilor SRH \n1. Divizia pentru Legumicultură: \n2. Divizia pentru Floricultură\, Arboricultură\, Peisagistică și Horticultură urbană: \n3. Divizia pentru Cultura cartofului: \n4. Divizia pentru Pomicultură\, Arbuști fructiferi și Căpșun: 5. Divizia pentru Viticultură și vinificație: \n6. Divizia pentru Valorificarea și industrializarea producției horticole:\n\n\n15:30 – 15:50\nPauză de cafea și ceai\n\n\n15:50 – 17:30\nRapoarte Filialelor SRH din Alba\, Arad\, Argeș\, Bacău\, Bihor\, Bistrița -Năsăud\, București\, Buzău\, Cluj\, Constanța\, Dâmbovița\, Dolj\, Galați\, Iași\, Mureș\, Prahova\, Satu Mare\, Teleorman\, Timiș\, Vâlcea\n\n\n17:30 – 18:00\nProiecte pentru perioada următoare\, discuții și închiderea întâlnirii\n\n\n18:00\nCină de gală la Salonul Ceres – Campusul Agronomie Herăstrău\n\n\n\n 
URL:https://srh.ro/eveniment/intalnirea-anuala-a-consiliului-de-conducere-srh/
LOCATION:Academia de Științe Agricole și Silvice ”Gheorghe Ionescu Șișești”- Aula Magna\, Bv. Marasti\, nr. 61\, Bucuresti\, Romania
ATTACH;FMTTYPE=image/png:https://srh.ro/wp-content/uploads/2025/12/sigla-SRH-transparent.png
ORGANIZER;CN="Societatea Romana a Horticultorilor":MAILTO:contact@srh.ro
END:VEVENT
END:VCALENDAR