BEGIN:VCALENDAR
VERSION:2.0
PRODID:-//SRH - ECPv6.15.17//NONSGML v1.0//EN
CALSCALE:GREGORIAN
METHOD:PUBLISH
X-WR-CALNAME:SRH
X-ORIGINAL-URL:https://srh.ro
X-WR-CALDESC:Evenimente pentru SRH
REFRESH-INTERVAL;VALUE=DURATION:PT1H
X-Robots-Tag:noindex
X-PUBLISHED-TTL:PT1H
BEGIN:VTIMEZONE
TZID:UTC
BEGIN:STANDARD
TZOFFSETFROM:+0000
TZOFFSETTO:+0000
TZNAME:UTC
DTSTART:20240101T000000
END:STANDARD
END:VTIMEZONE
BEGIN:VEVENT
DTSTART;TZID=UTC:20250811T080000
DTEND;TZID=UTC:20250811T170000
DTSTAMP:20260423T195037
CREATED:20250813T161820Z
LAST-MODIFIED:20250813T161820Z
UID:979-1754899200-1754931600@srh.ro
SUMMARY:Degustare de produse\, prezentarea soiurilor de legume dezvoltate la SCDL Bacau
DESCRIPTION:Degustare de produse\, prezentarea soiurilor de legume dezvoltate la SCDL Bacau \nFestivitate de premiere a seniorilor din SRH- Filiala Bacău – Munteanu Emil și Gorgoi Alexandru
URL:https://srh.ro/eveniment/degustare-de-produse-prezentarea-soiurilor-de-legume-dezvoltate-la-scdl-bacau/
LOCATION:SCDL Bacau\, Bacau\, Romania
END:VEVENT
END:VCALENDAR