BEGIN:VCALENDAR
VERSION:2.0
PRODID:-//SRH - ECPv6.15.17//NONSGML v1.0//EN
CALSCALE:GREGORIAN
METHOD:PUBLISH
X-ORIGINAL-URL:https://srh.ro
X-WR-CALDESC:Evenimente pentru SRH
REFRESH-INTERVAL;VALUE=DURATION:PT1H
X-Robots-Tag:noindex
X-PUBLISHED-TTL:PT1H
BEGIN:VTIMEZONE
TZID:UTC
BEGIN:STANDARD
TZOFFSETFROM:+0000
TZOFFSETTO:+0000
TZNAME:UTC
DTSTART:20240101T000000
END:STANDARD
END:VTIMEZONE
BEGIN:VEVENT
DTSTART;TZID=UTC:20250810T180000
DTEND;TZID=UTC:20250810T200000
DTSTAMP:20260423T200037
CREATED:20250813T164306Z
LAST-MODIFIED:20250813T164531Z
UID:985-1754848800-1754856000@srh.ro
SUMMARY:Interviu in emisiunea România Agricolă - Agro TV
DESCRIPTION:Dl prof. Florin Stănică\, Președintele Societății Române a Horticultorilor\, a acordat un interviu in emisiunea România Agricolă – Agro TV cu urmatoarele teme: Zootehnia și procesarea compensează pierderile din vegetal la Curtici\, județul Arad; Cercetare pomicolă de top la Stațiunea Bistrița. \nEmisiunea a fost difuzată duminică\, 10 august 2025\, ora 18:00 la AgroTV. \nhttps://youtu.be/SrsrsxKI86I
URL:https://srh.ro/eveniment/interviu-in-emisiunea-romania-agricola-agro-tv/
CATEGORIES:Emisiuni Media
END:VEVENT
END:VCALENDAR