BEGIN:VCALENDAR
VERSION:2.0
PRODID:-//SRH - ECPv6.15.17//NONSGML v1.0//EN
CALSCALE:GREGORIAN
METHOD:PUBLISH
X-WR-CALNAME:SRH
X-ORIGINAL-URL:https://srh.ro
X-WR-CALDESC:Evenimente pentru SRH
REFRESH-INTERVAL;VALUE=DURATION:PT1H
X-Robots-Tag:noindex
X-PUBLISHED-TTL:PT1H
BEGIN:VTIMEZONE
TZID:UTC
BEGIN:STANDARD
TZOFFSETFROM:+0000
TZOFFSETTO:+0000
TZNAME:UTC
DTSTART:20240101T000000
END:STANDARD
END:VTIMEZONE
BEGIN:VEVENT
DTSTART;TZID=UTC:20250224T080000
DTEND;TZID=UTC:20250225T170000
DTSTAMP:20260424T040856
CREATED:20250814T134705Z
LAST-MODIFIED:20250814T134732Z
UID:1068-1740384000-1740502800@srh.ro
SUMMARY:Curs de iniţiere în tehnica de executare a tăierilor de rărire şi fructificare la pomii pe rod si tăieri de formare a coroanelor la pomii tineri
DESCRIPTION:Curs de iniţiere în tehnica de executare a tăierilor de rărire şi fructificare la pomii pe rod si tăieri de formare a coroanelor la pomii tineri. \nInregistrarea se regaseste aici: \nhttps://www.facebook.com/photo?fbid=1154714163109813&set=a.595847515663150 \n 
URL:https://srh.ro/eveniment/curs-de-initiere-in-tehnica-de-executare-a-taierilor-de-rarire-si-fructificare-la-pomii-pe-rod-si-taieri-de-formare-a-coroanelor-la-pomii-tineri/
LOCATION:SCDP Bistrita\, Drumul Dumitrei Nou\, nr. 3\, Bistrita\, 420100\, Romania
END:VEVENT
END:VCALENDAR