BEGIN:VCALENDAR
VERSION:2.0
PRODID:-//SRH - ECPv6.15.17//NONSGML v1.0//EN
CALSCALE:GREGORIAN
METHOD:PUBLISH
X-WR-CALNAME:SRH
X-ORIGINAL-URL:https://srh.ro
X-WR-CALDESC:Evenimente pentru SRH
REFRESH-INTERVAL;VALUE=DURATION:PT1H
X-Robots-Tag:noindex
X-PUBLISHED-TTL:PT1H
BEGIN:VTIMEZONE
TZID:UTC
BEGIN:STANDARD
TZOFFSETFROM:+0000
TZOFFSETTO:+0000
TZNAME:UTC
DTSTART:20240101T000000
END:STANDARD
END:VTIMEZONE
BEGIN:VEVENT
DTSTART;TZID=UTC:20250210T080000
DTEND;TZID=UTC:20250210T170000
DTSTAMP:20260424T055142
CREATED:20250813T161326Z
LAST-MODIFIED:20250813T161326Z
UID:968-1739174400-1739206800@srh.ro
SUMMARY:Ziua internațională a leguminoaselor
DESCRIPTION:Ziua internațională a leguminoaselor
URL:https://srh.ro/eveniment/ziua-internationala-a-leguminoaselor/
LOCATION:SCDL Bacau\, Bacau\, Romania
END:VEVENT
END:VCALENDAR