BEGIN:VCALENDAR
VERSION:2.0
PRODID:-//SRH - ECPv6.15.17//NONSGML v1.0//EN
CALSCALE:GREGORIAN
METHOD:PUBLISH
X-WR-CALNAME:SRH
X-ORIGINAL-URL:https://srh.ro
X-WR-CALDESC:Evenimente pentru SRH
REFRESH-INTERVAL;VALUE=DURATION:PT1H
X-Robots-Tag:noindex
X-PUBLISHED-TTL:PT1H
BEGIN:VTIMEZONE
TZID:UTC
BEGIN:STANDARD
TZOFFSETFROM:+0000
TZOFFSETTO:+0000
TZNAME:UTC
DTSTART:20240101T000000
END:STANDARD
END:VTIMEZONE
BEGIN:VEVENT
DTSTART;TZID=UTC:20250205T100000
DTEND;TZID=UTC:20250205T180000
DTSTAMP:20260424T055143
CREATED:20250813T161205Z
LAST-MODIFIED:20250813T161205Z
UID:963-1738749600-1738778400@srh.ro
SUMMARY:Întâlnire de lucru\, cu fermieri din jud. Bacău (S.R.H. Filiala BACĂU )\, cercetători de la SCDL Bacău şi fermieri din jud.Suceava. 2025
DESCRIPTION:Întâlnire de lucru\, cu fermieri din jud. Bacău (S.R.H. Filiala BACĂU )\, cercetători de la SCDL Bacău şi fermieri din jud.Suceava. Prezentarea ultimelor noutăţi din cercetarea legumicolă băcăuană. \n 
URL:https://srh.ro/eveniment/intalnire-de-lucru-cu-fermieri-din-jud-bacau-s-r-h-filiala-bacau-cercetatori-de-la-scdl-bacau-si-fermieri-din-jud-suceava-2025/
LOCATION:Direcția pentru Agricultură Județeană Suceava\, Suceava\, Romania
END:VEVENT
END:VCALENDAR